BEGIN:VCALENDAR
VERSION:2.0
PRODID:-//Contratero//ES
CALSCALE:GREGORIAN
METHOD:PUBLISH
BEGIN:VEVENT
UID:17/21 DDC@contratero.es
DTSTAMP:20260422T215102Z
DTSTART:20210716T235959
DTEND:20210717T005959
SUMMARY:Cierre: El objeto de la presente licitación es la contrata
DESCRIPTION:El objeto de la presente licitación es la contratación de los servicios de diseño web avanzado\; creación de nuevos contenidos\, migración y actualización de parte de los contenidos ya existentes\; progr...\\n\\nOrganismo: Empresa Estatal Mercados Centrales de Abastecimiento SA (MERCASA)\\n\\nVer en Contratero: https://contratero.es/contracts/17/21 DDC
URL:https://contratero.es/contracts/17/21 DDC
STATUS:CONFIRMED
BEGIN:VALARM
TRIGGER:-P1D
ACTION:DISPLAY
DESCRIPTION:Recordatorio: El objeto de la presente licit
END:VALARM
END:VEVENT
END:VCALENDAR